{
 "cimVersion": "3.0.0",
 "serviceDescription": "",
 "mapName": "Map",
 "description": "",
 "copyrightText": "",
 "supportsDynamicLayers": false,
 "layers": [
  {
   "id": 0,
   "name": "Flood Zone",
   "parentLayerId": -1,
   "defaultVisibility": true,
   "subLayerIds": null,
   "minScale": 500000,
   "maxScale": 0,
   "type": "Feature Layer",
   "geometryType": "esriGeometryPolygon",
   "supportsDynamicLegends": true
  }
 ],
 "tables": [],
 "spatialReference": {
  "wkid": 103152,
  "latestWkid": 6576,
  "xyTolerance": 0.003280833333333333,
  "zTolerance": 0.001,
  "mTolerance": 0.001,
  "falseX": -121521300,
  "falseY": -93934000,
  "xyUnits": 3048.0060960121928,
  "falseZ": -100000,
  "zUnits": 10000,
  "falseM": -100000,
  "mUnits": 10000
 },
 "singleFusedMapCache": true,
 "tileInfo": {
  "rows": 256,
  "cols": 256,
  "dpi": 96,
  "format": "PNG",
  "compressionQuality": 0,
  "origin": {
   "x": -1.215209163710857E8,
   "y": 1.076755468541978E8
  },
  "spatialReference": {
   "wkid": 103152,
   "latestWkid": 6576,
   "xyTolerance": 0.003280833333333333,
   "zTolerance": 0.001,
   "mTolerance": 0.001,
   "falseX": -121521300,
   "falseY": -93934000,
   "xyUnits": 3048.0060960121928,
   "falseZ": -100000,
   "zUnits": 10000,
   "falseM": -100000,
   "mUnits": 10000
  },
  "lods": [
   {
    "level": 0,
    "resolution": 964761.065399107,
    "scale": 1.1114069701537118E9
   },
   {
    "level": 1,
    "resolution": 482380.5326995535,
    "scale": 5.557034850768559E8
   },
   {
    "level": 2,
    "resolution": 241190.26634977676,
    "scale": 2.7785174253842795E8
   },
   {
    "level": 3,
    "resolution": 120595.13317488838,
    "scale": 1.3892587126921397E8
   },
   {
    "level": 4,
    "resolution": 60297.56658744419,
    "scale": 6.946293563460699E7
   },
   {
    "level": 5,
    "resolution": 30148.783293722096,
    "scale": 3.473146781730349E7
   },
   {
    "level": 6,
    "resolution": 15074.391646861048,
    "scale": 1.7365733908651747E7
   },
   {
    "level": 7,
    "resolution": 7537.195823430524,
    "scale": 8682866.954325873
   },
   {
    "level": 8,
    "resolution": 3768.597911715262,
    "scale": 4341433.477162937
   },
   {
    "level": 9,
    "resolution": 1884.298955857631,
    "scale": 2170716.7385814684
   },
   {
    "level": 10,
    "resolution": 942.1494779288155,
    "scale": 1085358.3692907342
   },
   {
    "level": 11,
    "resolution": 471.07473896440774,
    "scale": 542679.1846453671
   },
   {
    "level": 12,
    "resolution": 235.53736948220387,
    "scale": 271339.59232268354
   },
   {
    "level": 13,
    "resolution": 117.76868474110194,
    "scale": 135669.79616134177
   },
   {
    "level": 14,
    "resolution": 58.88434237055097,
    "scale": 67834.89808067089
   },
   {
    "level": 15,
    "resolution": 29.442171185275484,
    "scale": 33917.44904033544
   },
   {
    "level": 16,
    "resolution": 14.721085592637742,
    "scale": 16958.72452016772
   },
   {
    "level": 17,
    "resolution": 7.360542796318871,
    "scale": 8479.36226008386
   },
   {
    "level": 18,
    "resolution": 3.6802713981594355,
    "scale": 4239.68113004193
   }
  ]
 },
 "storageInfo": {
  "storageFormat": "esriMapCacheStorageModeCompactV2",
  "packetSize": 128
 },
 "initialExtent": {
  "xmin": 1090675.6542784693,
  "ymin": 292219.5992464143,
  "xmax": 1387480.7290553357,
  "ymax": 556433.071995544,
  "spatialReference": {
   "wkid": 103152,
   "latestWkid": 6576,
   "xyTolerance": 0.003280833333333333,
   "zTolerance": 0.001,
   "mTolerance": 0.001,
   "falseX": -121521300,
   "falseY": -93934000,
   "xyUnits": 3048.0060960121928,
   "falseZ": -100000,
   "zUnits": 10000,
   "falseM": -100000,
   "mUnits": 10000
  }
 },
 "fullExtent": {
  "xmin": 677577.074716218,
  "ymin": 236461.4689613049,
  "xmax": 3272175.2479499024,
  "ymax": 881987.3249654168,
  "spatialReference": {
   "wkid": 103152,
   "latestWkid": 6576,
   "xyTolerance": 0.003280833333333333,
   "zTolerance": 0.001,
   "mTolerance": 0.001,
   "falseX": -121521300,
   "falseY": -93934000,
   "xyUnits": 3048.0060960121928,
   "falseZ": -100000,
   "zUnits": 10000,
   "falseM": -100000,
   "mUnits": 10000
  }
 },
 "datesInUnknownTimezone": false,
 "units": "esriFeet",
 "supportedImageFormatTypes": "PNG32,PNG24,PNG,JPG,DIB,TIFF,EMF,PS,PDF,GIF,SVG,SVGZ,BMP",
 "documentInfo": {
  "Title": "Map",
  "Author": "",
  "Comments": "",
  "Subject": "",
  "Category": "",
  "Version": "2.9.0",
  "AntialiasingMode": "Best",
  "TextAntialiasingMode": "Force",
  "Keywords": ""
 },
 "supportedQueryFormats": "JSON, geoJSON, PBF",
 "referenceScale": 0.0,
 "datumTransformations": [
  {
   "geoTransforms": [
    {
     "wkid": 108190,
     "latestWkid": 108190,
     "transformForward": true,
     "name": "WGS_1984_(ITRF00)_To_NAD_1983"
    }
   ]
  },
  {
   "geoTransforms": [
    {
     "wkid": 108190,
     "latestWkid": 108190,
     "transformForward": false,
     "name": "WGS_1984_(ITRF00)_To_NAD_1983"
    }
   ]
  },
  {
   "geoTransforms": [
    {
     "wkid": 108190,
     "latestWkid": 108190,
     "transformForward": true,
     "name": "WGS_1984_(ITRF00)_To_NAD_1983"
    }
   ]
  },
  {
   "geoTransforms": [
    {
     "wkid": 108190,
     "latestWkid": 108190,
     "transformForward": false,
     "name": "WGS_1984_(ITRF00)_To_NAD_1983"
    }
   ]
  },
  {
   "geoTransforms": [
    {
     "wkid": 108190,
     "latestWkid": 108190,
     "transformForward": false,
     "name": "WGS_1984_(ITRF00)_To_NAD_1983"
    },
    {
     "wkid": 108363,
     "latestWkid": 108363,
     "transformForward": true,
     "name": "WGS_1984_(ITRF08)_To_NAD_1983_2011"
    }
   ]
  },
  {
   "geoTransforms": [
    {
     "wkid": 108363,
     "latestWkid": 108363,
     "transformForward": false,
     "name": "WGS_1984_(ITRF08)_To_NAD_1983_2011"
    },
    {
     "wkid": 108190,
     "latestWkid": 108190,
     "transformForward": true,
     "name": "WGS_1984_(ITRF00)_To_NAD_1983"
    }
   ]
  },
  {
   "geoTransforms": [
    {
     "wkid": 108363,
     "latestWkid": 108363,
     "transformForward": true,
     "name": "WGS_1984_(ITRF08)_To_NAD_1983_2011"
    }
   ]
  },
  {
   "geoTransforms": [
    {
     "wkid": 108363,
     "latestWkid": 108363,
     "transformForward": false,
     "name": "WGS_1984_(ITRF08)_To_NAD_1983_2011"
    }
   ]
  }
 ],
 "supportsDatumTransformation": true,
 "floorAwareMapProperties": {
  "defaultFloorFilterSettings": {
   "isEnabled": true
  }
 },
 "archivingInfo": {
  "supportsHistoricMoment": false
 },
 "supportsClipping": true,
 "supportsSpatialFilter": true,
 "supportsTimeRelation": true,
 "supportsQueryDataElements": true,
 "maxRecordCount": 1000,
 "maxImageHeight": 4096,
 "maxImageWidth": 4096,
 "currentVersion": 12.9,
 "capabilities": "TilesOnly,Tilemap",
 "minLOD": 8,
 "maxLOD": 13,
 "minScale": 899310,
 "maxScale": 4897,
 "exportTilesAllowed": false,
 "maxExportTilesCount": 100000,
 "supportedExtensions": "",
 "serviceItemId": "3e9804fff0c4415492e4e402ede4d31d"
}
